BEGIN:VCALENDAR
VERSION:2.0
PRODID:-//Gemeinde Ellbögen - ECPv6.15.20//NONSGML v1.0//EN
CALSCALE:GREGORIAN
METHOD:PUBLISH
X-ORIGINAL-URL:https://ellboegen.at
X-WR-CALDESC:Veranstaltungen für Gemeinde Ellbögen
REFRESH-INTERVAL;VALUE=DURATION:PT1H
X-Robots-Tag:noindex
X-PUBLISHED-TTL:PT1H
BEGIN:VTIMEZONE
TZID:Europe/Vienna
BEGIN:DAYLIGHT
TZOFFSETFROM:+0100
TZOFFSETTO:+0200
TZNAME:CEST
DTSTART:20220327T010000
END:DAYLIGHT
BEGIN:STANDARD
TZOFFSETFROM:+0200
TZOFFSETTO:+0100
TZNAME:CET
DTSTART:20221030T010000
END:STANDARD
BEGIN:DAYLIGHT
TZOFFSETFROM:+0100
TZOFFSETTO:+0200
TZNAME:CEST
DTSTART:20230326T010000
END:DAYLIGHT
BEGIN:STANDARD
TZOFFSETFROM:+0200
TZOFFSETTO:+0100
TZNAME:CET
DTSTART:20231029T010000
END:STANDARD
BEGIN:DAYLIGHT
TZOFFSETFROM:+0100
TZOFFSETTO:+0200
TZNAME:CEST
DTSTART:20240331T010000
END:DAYLIGHT
BEGIN:STANDARD
TZOFFSETFROM:+0200
TZOFFSETTO:+0100
TZNAME:CET
DTSTART:20241027T010000
END:STANDARD
END:VTIMEZONE
BEGIN:VEVENT
DTSTART;TZID=Europe/Vienna:20231215T140000
DTEND;TZID=Europe/Vienna:20231215T170000
DTSTAMP:20260421T192111
CREATED:20231214T093331Z
LAST-MODIFIED:20231214T093331Z
UID:4052-1702648800-1702659600@ellboegen.at
SUMMARY:Weihnachtswerkstatt
DESCRIPTION:Kekse backen\, basteln und viel Spaß für Kinder
URL:https://ellboegen.at/event/weihnachtswerkstatt/
LOCATION:Gemeindesaal Ellbögen
CATEGORIES:Veranstaltungen im Gemeindesaal
END:VEVENT
END:VCALENDAR