BEGIN:VCALENDAR
VERSION:2.0
PRODID:-//Gemeinde Ellbögen - ECPv6.15.20//NONSGML v1.0//EN
CALSCALE:GREGORIAN
METHOD:PUBLISH
X-ORIGINAL-URL:https://ellboegen.at
X-WR-CALDESC:Veranstaltungen für Gemeinde Ellbögen
REFRESH-INTERVAL;VALUE=DURATION:PT1H
X-Robots-Tag:noindex
X-PUBLISHED-TTL:PT1H
BEGIN:VTIMEZONE
TZID:UTC
BEGIN:STANDARD
TZOFFSETFROM:+0000
TZOFFSETTO:+0000
TZNAME:UTC
DTSTART:20240101T000000
END:STANDARD
END:VTIMEZONE
BEGIN:VEVENT
DTSTART;VALUE=DATE:20250111
DTEND;VALUE=DATE:20250112
DTSTAMP:20260422T063727
CREATED:20241217T105213Z
LAST-MODIFIED:20241217T105213Z
UID:5231-1736553600-1736639999@ellboegen.at
SUMMARY:Vereinsmeisterschaft Rodeln
DESCRIPTION:
URL:https://ellboegen.at/event/vereinsmeisterschaft-rodeln/
LOCATION:Rodelbahn Ellbögen
CATEGORIES:Sonstige Veranstaltungen innerhalb von Ellbögen
END:VEVENT
END:VCALENDAR