BEGIN:VCALENDAR
VERSION:2.0
PRODID:-//Gemeinde Ellbögen - ECPv6.15.20//NONSGML v1.0//EN
CALSCALE:GREGORIAN
METHOD:PUBLISH
X-ORIGINAL-URL:https://ellboegen.at
X-WR-CALDESC:Veranstaltungen für Gemeinde Ellbögen
REFRESH-INTERVAL;VALUE=DURATION:PT1H
X-Robots-Tag:noindex
X-PUBLISHED-TTL:PT1H
BEGIN:VTIMEZONE
TZID:Europe/Vienna
BEGIN:DAYLIGHT
TZOFFSETFROM:+0100
TZOFFSETTO:+0200
TZNAME:CEST
DTSTART:20220327T010000
END:DAYLIGHT
BEGIN:STANDARD
TZOFFSETFROM:+0200
TZOFFSETTO:+0100
TZNAME:CET
DTSTART:20221030T010000
END:STANDARD
BEGIN:DAYLIGHT
TZOFFSETFROM:+0100
TZOFFSETTO:+0200
TZNAME:CEST
DTSTART:20230326T010000
END:DAYLIGHT
BEGIN:STANDARD
TZOFFSETFROM:+0200
TZOFFSETTO:+0100
TZNAME:CET
DTSTART:20231029T010000
END:STANDARD
BEGIN:DAYLIGHT
TZOFFSETFROM:+0100
TZOFFSETTO:+0200
TZNAME:CEST
DTSTART:20240331T010000
END:DAYLIGHT
BEGIN:STANDARD
TZOFFSETFROM:+0200
TZOFFSETTO:+0100
TZNAME:CET
DTSTART:20241027T010000
END:STANDARD
END:VTIMEZONE
BEGIN:VEVENT
DTSTART;TZID=Europe/Vienna:20231007T140000
DTEND;TZID=Europe/Vienna:20231007T170000
DTSTAMP:20260422T074950
CREATED:20230920T065032Z
LAST-MODIFIED:20230920T065235Z
UID:3887-1696687200-1696698000@ellboegen.at
SUMMARY:Mal-Workshop für Kids
DESCRIPTION:14-17 Uhr
URL:https://ellboegen.at/event/mal-workshop-fuer-kids/
LOCATION:Gemeindesaal Ellbögen
CATEGORIES:Veranstaltungen im Gemeindesaal
END:VEVENT
END:VCALENDAR